BEGIN:VCALENDAR
VERSION:2.0
PRODID:spatie/icalendar-generator
DESCRIPTION:Events from Question Everything Trivia
X-WR-CALDESC:Events from Question Everything Trivia
REFRESH-INTERVAL;VALUE=DURATION:PT1440M
X-PUBLISHED-TTL:PT1440M
BEGIN:VTIMEZONE
TZID:America/Kentucky/Louisville
BEGIN:DAYLIGHT
DTSTART:20180311T020000Z
TZOFFSETFROM:-0500
TZOFFSETTO:-0400
END:DAYLIGHT
BEGIN:STANDARD
DTSTART:20181104T020000Z
TZOFFSETFROM:-0400
TZOFFSETTO:-0500
END:STANDARD
BEGIN:DAYLIGHT
DTSTART:20190310T020000Z
TZOFFSETFROM:-0500
TZOFFSETTO:-0400
END:DAYLIGHT
END:VTIMEZONE
BEGIN:VTIMEZONE
TZID:UTC
BEGIN:STANDARD
DTSTART:20250727T143951Z
TZOFFSETFROM:+0000
TZOFFSETTO:+0000
END:STANDARD
END:VTIMEZONE
BEGIN:VEVENT
UID:2406-5
DTSTAMP:20260423T143951Z
SUMMARY:COVER TUNES
LOCATION:Classics Sports Bar - Pickerington 12981 Stonecreek Drive  Pickeri
 ngton Ohio 43147
ORGANIZER;CN=admin:MAILTO:royal1618@gmail.com
RRULE:FREQ=WEEKLY;UNTIL=20350201T000000Z
DTSTART;TZID=America/Kentucky/Louisville:20181107T193000
DTEND;TZID=America/Kentucky/Louisville:20181107T200000
X-ALT-DESC;FMTTYPE=TEXT/HTML:COVER TUNES MUSIC BINGO - Win some cash and en
 joy your favorite music in 30 second snippets\,... just like when you're s
 tation surfing on your car radio. Host: Dave Prizes\; Six cash prizes winn
 ers
CATEGORIES:General
URL;VALUE=URI:https://www.qetrivia.com/mc-events/cover-tunes-2/?mc_id=2406
METHOD:PUBLISH
END:VEVENT
END:VCALENDAR