BEGIN:VCALENDAR
VERSION:2.0
PRODID:spatie/icalendar-generator
DESCRIPTION:Events from Question Everything Trivia
X-WR-CALDESC:Events from Question Everything Trivia
REFRESH-INTERVAL;VALUE=DURATION:PT1440M
X-PUBLISHED-TTL:PT1440M
BEGIN:VTIMEZONE
TZID:America/Kentucky/Louisville
BEGIN:STANDARD
DTSTART:20251102T020000Z
TZOFFSETFROM:-0400
TZOFFSETTO:-0500
END:STANDARD
BEGIN:DAYLIGHT
DTSTART:20260308T020000Z
TZOFFSETFROM:-0500
TZOFFSETTO:-0400
END:DAYLIGHT
END:VTIMEZONE
BEGIN:VTIMEZONE
TZID:UTC
BEGIN:STANDARD
DTSTART:20250727T115436Z
TZOFFSETFROM:+0000
TZOFFSETTO:+0000
END:STANDARD
END:VTIMEZONE
BEGIN:VEVENT
UID:1946-3
DTSTAMP:20260423T115436Z
SUMMARY:TRIVIA
LOCATION:Classics Sports Bar - Pickerington 12981 Stonecreek Drive  Pickeri
 ngton Ohio 43147
ORGANIZER;CN=admin:MAILTO:royal1618@gmail.com
RRULE:FREQ=WEEKLY;UNTIL=20350201T000000Z
DTSTART;TZID=America/Kentucky/Louisville:20260414T193000
DTEND;TZID=America/Kentucky/Louisville:20260414T200000
X-ALT-DESC;FMTTYPE=TEXT/HTML:Our trivia shows are competitive\, good-humore
 d and wildly entertaining — where useless knowledge becomes your greates
 t weapon and bragging rights are everything. Bring your friends\, bring yo
 ur ego\, and prepare to prove you actually know stuff. Host: Dave Prizes\;
  Cash prizes for top-2 teams.
CATEGORIES:General
URL;VALUE=URI:https://www.qetrivia.com/mc-events/trivia-2/?mc_id=1946
METHOD:PUBLISH
END:VEVENT
END:VCALENDAR